BEGIN:VCALENDAR
VERSION:2.0
PRODID:-//hacksw/handcal//NONSGML v1.0//EN
CALSCALE:GREGORIAN
BEGIN:VEVENT
UID:event-444@stadhaus.lu
DTSTAMP:1587673151
DTSTART:20180124T203000
LOCATION:38, avenue Charlotte, L-4530 Differdange
URL;VALUE=URI:http://www.stadhaus.lu/agenda/detail/?user_agenda_pi1[showUid]=444
SUMMARY:Robin Trower - Where you are going to
END:VEVENT
END:VCALENDAR