BEGIN:VCALENDAR
VERSION:2.0
PRODID:-//hacksw/handcal//NONSGML v1.0//EN
CALSCALE:GREGORIAN
BEGIN:VEVENT
UID:event-426@stadhaus.lu
DTSTAMP:1587673158
DTSTART:20180129T200000
LOCATION:38, avenue Charlotte, L-4530 Differdange
URL;VALUE=URI:http://www.stadhaus.lu/agenda/detail/?user_agenda_pi1[showUid]=426
SUMMARY:Lundi Littéraire - LUC SPADA
END:VEVENT
END:VCALENDAR