BEGIN:VCALENDAR
VERSION:2.0
PRODID:-//hacksw/handcal//NONSGML v1.0//EN
CALSCALE:GREGORIAN
BEGIN:VEVENT
UID:event-425@stadhaus.lu
DTSTAMP:1587673148
DTSTART:20180123
LOCATION:38, avenue Charlotte, L-4530 Differdange
URL;VALUE=URI:http://www.stadhaus.lu/agenda/detail/?user_agenda_pi1[showUid]=425
SUMMARY:TATORT / LE LIEU DU CRIME - Le savoir de l\'image
END:VEVENT
END:VCALENDAR