BEGIN:VCALENDAR
VERSION:2.0
PRODID:-//hacksw/handcal//NONSGML v1.0//EN
CALSCALE:GREGORIAN
BEGIN:VEVENT
UID:event-424@stadhaus.lu
DTSTAMP:1587673133
DTSTART:20180111
LOCATION:38, avenue Charlotte, L-4530 Differdange
URL;VALUE=URI:http://www.stadhaus.lu/agenda/detail/?user_agenda_pi1[showUid]=424
SUMMARY:EVENT PHOTOGRAPHY - Par Claude Piscitelli
END:VEVENT
END:VCALENDAR