BEGIN:VCALENDAR
VERSION:2.0
PRODID:-//hacksw/handcal//NONSGML v1.0//EN
CALSCALE:GREGORIAN
BEGIN:VEVENT
UID:event-399@stadhaus.lu
DTSTAMP:1587673137
DTSTART:20180114T170000
LOCATION:38, avenue Charlotte, L-4530 Differdange
URL;VALUE=URI:http://www.stadhaus.lu/agenda/detail/?user_agenda_pi1[showUid]=399
SUMMARY:Harmonie Prince Guillaume & HMDifferdange Concert du Nouvel An 2018
END:VEVENT
END:VCALENDAR