BEGIN:VCALENDAR
VERSION:2.0
PRODID:-//hacksw/handcal//NONSGML v1.0//EN
CALSCALE:GREGORIAN
BEGIN:VEVENT
UID:event-389@stadhaus.lu
DTSTAMP:1587673154
DTSTART:20180125T203000
LOCATION:38, avenue Charlotte, L-4530 Differdange
URL;VALUE=URI:http://www.stadhaus.lu/agenda/detail/?user_agenda_pi1[showUid]=389
SUMMARY:Tristan Lopin - Dépendance Affective
END:VEVENT
END:VCALENDAR