BEGIN:VCALENDAR
VERSION:2.0
PRODID:-//hacksw/handcal//NONSGML v1.0//EN
CALSCALE:GREGORIAN
BEGIN:VEVENT
UID:event-370@stadhaus.lu
DTSTAMP:1498044728
DTSTART:20171030T200000
LOCATION:38, avenue Charlotte, L-4530 Differdange
URL;VALUE=URI:http://www.stadhaus.lu/agenda/detail/?user_agenda_pi1[showUid]=370
SUMMARY:Lundi littéraire - Jean-Marie Backes a Raymond Boon
END:VEVENT
END:VCALENDAR