BEGIN:VCALENDAR
VERSION:2.0
PRODID:-//hacksw/handcal//NONSGML v1.0//EN
CALSCALE:GREGORIAN
BEGIN:VEVENT
UID:event-368@stadhaus.lu
DTSTAMP:1498044709
DTSTART:20171022T170000
LOCATION:38, avenue Charlotte, L-4530 Differdange
URL;VALUE=URI:http://www.stadhaus.lu/agenda/detail/?user_agenda_pi1[showUid]=368
SUMMARY:Le mec de la tombe d\'à côté - TOL
END:VEVENT
END:VCALENDAR