BEGIN:VCALENDAR
VERSION:2.0
PRODID:-//hacksw/handcal//NONSGML v1.0//EN
CALSCALE:GREGORIAN
BEGIN:VEVENT
UID:event-365@stadhaus.lu
DTSTAMP:1498044698
DTSTART:20171012T200000
LOCATION:38, avenue Charlotte, L-4530 Differdange
URL;VALUE=URI:http://www.stadhaus.lu/agenda/detail/?user_agenda_pi1[showUid]=365
SUMMARY:Spanish Blues Night - Susan Santos & A Contra Blues
END:VEVENT
END:VCALENDAR