BEGIN:VCALENDAR
VERSION:2.0
PRODID:-//hacksw/handcal//NONSGML v1.0//EN
CALSCALE:GREGORIAN
BEGIN:VEVENT
UID:event-364@stadhaus.lu
DTSTAMP:1498044686
DTSTART:20171006
DTEND:20171016
LOCATION:38, avenue Charlotte, L-4530 Differdange
URL;VALUE=URI:http://www.stadhaus.lu/agenda/detail/?user_agenda_pi1[showUid]=364
SUMMARY:Erënnerung un eise Frang
END:VEVENT
END:VCALENDAR