BEGIN:VCALENDAR
VERSION:2.0
PRODID:-//hacksw/handcal//NONSGML v1.0//EN
CALSCALE:GREGORIAN
BEGIN:VEVENT
UID:event-362@stadhaus.lu
DTSTAMP:1498044672
DTSTART:20171003T193000
LOCATION:38, avenue Charlotte, L-4530 Differdange
URL;VALUE=URI:http://www.stadhaus.lu/agenda/detail/?user_agenda_pi1[showUid]=362
SUMMARY:Le savoir de l\'image - Images censurées
END:VEVENT
END:VCALENDAR