BEGIN:VCALENDAR
VERSION:2.0
PRODID:-//hacksw/handcal//NONSGML v1.0//EN
CALSCALE:GREGORIAN
BEGIN:VEVENT
UID:event-361@stadhaus.lu
DTSTAMP:1498044666
DTSTART:20171001T150000
LOCATION:38, avenue Charlotte, L-4530 Differdange
URL;VALUE=URI:http://www.stadhaus.lu/agenda/detail/?user_agenda_pi1[showUid]=361
SUMMARY:Thé dansant - Orchester Nico Haupert
END:VEVENT
END:VCALENDAR