BEGIN:VCALENDAR
VERSION:2.0
PRODID:-//hacksw/handcal//NONSGML v1.0//EN
CALSCALE:GREGORIAN
BEGIN:VEVENT
UID:event-360@stadhaus.lu
DTSTAMP:1498044322
DTSTART:20170929T210000
LOCATION:38, avenue Charlotte, L-4530 Differdange
URL;VALUE=URI:http://www.stadhaus.lu/agenda/detail/?user_agenda_pi1[showUid]=360
SUMMARY:Aalt Stadhaus Unplugged - Enzo Guitti
END:VEVENT
END:VCALENDAR