BEGIN:VCALENDAR
VERSION:2.0
PRODID:-//hacksw/handcal//NONSGML v1.0//EN
CALSCALE:GREGORIAN
BEGIN:VEVENT
UID:event-358@stadhaus.lu
DTSTAMP:1498044313
DTSTART:20170916T203000
LOCATION:38, avenue Charlotte, L-4530 Differdange
URL;VALUE=URI:http://www.stadhaus.lu/agenda/detail/?user_agenda_pi1[showUid]=358
SUMMARY:La Bajon - Vous couperez
END:VEVENT
END:VCALENDAR