BEGIN:VCALENDAR
VERSION:2.0
PRODID:-//hacksw/handcal//NONSGML v1.0//EN
CALSCALE:GREGORIAN
BEGIN:VEVENT
UID:event-350@stadhaus.lu
DTSTAMP:1498044693
DTSTART:20171010T203000
LOCATION:38, avenue Charlotte, L-4530 Differdange
URL;VALUE=URI:http://www.stadhaus.lu/agenda/detail/?user_agenda_pi1[showUid]=350
SUMMARY:Inglorious Comedy Club présenté par Vérino
END:VEVENT
END:VCALENDAR