BEGIN:VCALENDAR
VERSION:2.0
PRODID:-//hacksw/handcal//NONSGML v1.0//EN
CALSCALE:GREGORIAN
BEGIN:VEVENT
UID:event-349@stadhaus.lu
DTSTAMP:1498044311
DTSTART:20170915T200000
LOCATION:38, avenue Charlotte, L-4530 Differdange
URL;VALUE=URI:http://www.stadhaus.lu/agenda/detail/?user_agenda_pi1[showUid]=349
SUMMARY:Antonia de Rendinger - Moi jeu!
END:VEVENT
END:VCALENDAR