BEGIN:VCALENDAR
VERSION:2.0
PRODID:-//hacksw/handcal//NONSGML v1.0//EN
CALSCALE:GREGORIAN
BEGIN:VEVENT
UID:event-346@stadhaus.lu
DTSTAMP:1498044155
DTSTART:20170330T203000
LOCATION:38, avenue Charlotte, L-4530 Differdange
URL;VALUE=URI:http://www.stadhaus.lu/agenda/detail/?user_agenda_pi1[showUid]=346
SUMMARY:Just. D\'Jal
END:VEVENT
END:VCALENDAR