BEGIN:VCALENDAR
VERSION:2.0
PRODID:-//hacksw/handcal//NONSGML v1.0//EN
CALSCALE:GREGORIAN
BEGIN:VEVENT
UID:event-345@stadhaus.lu
DTSTAMP:1498044493
DTSTART:20170227T200000
LOCATION:38, avenue Charlotte, L-4530 Differdange
URL;VALUE=URI:http://www.stadhaus.lu/agenda/detail/?user_agenda_pi1[showUid]=345
SUMMARY:Lundi littéraire: Luc François
END:VEVENT
END:VCALENDAR