BEGIN:VCALENDAR
VERSION:2.0
PRODID:-//hacksw/handcal//NONSGML v1.0//EN
CALSCALE:GREGORIAN
BEGIN:VEVENT
UID:event-326@stadhaus.lu
DTSTAMP:1498044486
DTSTART:20170217T210000
LOCATION:38, avenue Charlotte, L-4530 Differdange
URL;VALUE=URI:http://www.stadhaus.lu/agenda/detail/?user_agenda_pi1[showUid]=326
SUMMARY:Aalt Stadhaus Unplugged Tardis
END:VEVENT
END:VCALENDAR