BEGIN:VCALENDAR
VERSION:2.0
PRODID:-//hacksw/handcal//NONSGML v1.0//EN
CALSCALE:GREGORIAN
BEGIN:VEVENT
UID:event-320@stadhaus.lu
DTSTAMP:1513824103
DTSTART:20170130T200000
LOCATION:38, avenue Charlotte, L-4530 Differdange
URL;VALUE=URI:http://www.stadhaus.lu/agenda/detail/?user_agenda_pi1[showUid]=320
SUMMARY:Lundi littéraire: Pit Wagner
END:VEVENT
END:VCALENDAR