BEGIN:VCALENDAR
VERSION:2.0
PRODID:-//hacksw/handcal//NONSGML v1.0//EN
CALSCALE:GREGORIAN
BEGIN:VEVENT
UID:event-317@stadhaus.lu
DTSTAMP:1513824097
DTSTART:20170124T200000
LOCATION:38, avenue Charlotte, L-4530 Differdange
URL;VALUE=URI:http://www.stadhaus.lu/agenda/detail/?user_agenda_pi1[showUid]=317
SUMMARY:Lusitanian Blues Night Frankie Chavez &  Budda Power Blues 
END:VEVENT
END:VCALENDAR