BEGIN:VCALENDAR
VERSION:2.0
PRODID:-//hacksw/handcal//NONSGML v1.0//EN
CALSCALE:GREGORIAN
BEGIN:VEVENT
UID:event-314@stadhaus.lu
DTSTAMP:1498044459
DTSTART:20170118
DTEND:20170205
LOCATION:38, avenue Charlotte, L-4530 Differdange
URL;VALUE=URI:http://www.stadhaus.lu/agenda/detail/?user_agenda_pi1[showUid]=314
SUMMARY:Crying Women par Monique Kemp 
END:VEVENT
END:VCALENDAR