BEGIN:VCALENDAR
VERSION:2.0
PRODID:-//hacksw/handcal//NONSGML v1.0//EN
CALSCALE:GREGORIAN
BEGIN:VEVENT
UID:event-304@stadhaus.lu
DTSTAMP:1498044464
DTSTART:20170203T200000
LOCATION:38, avenue Charlotte, L-4530 Differdange
URL;VALUE=URI:http://www.stadhaus.lu/agenda/detail/?user_agenda_pi1[showUid]=304
SUMMARY:Mia Rose ao vivo
END:VEVENT
END:VCALENDAR