BEGIN:VCALENDAR
VERSION:2.0
PRODID:-//hacksw/handcal//NONSGML v1.0//EN
CALSCALE:GREGORIAN
BEGIN:VEVENT
UID:event-302@stadhaus.lu
DTSTAMP:1498044128
DTSTART:20170312T170000
LOCATION:38, avenue Charlotte, L-4530 Differdange
URL;VALUE=URI:http://www.stadhaus.lu/agenda/detail/?user_agenda_pi1[showUid]=302
SUMMARY:D\'Kachboun. Maus Ketti vs. Lea Linster
END:VEVENT
END:VCALENDAR