BEGIN:VCALENDAR
VERSION:2.0
PRODID:-//hacksw/handcal//NONSGML v1.0//EN
CALSCALE:GREGORIAN
BEGIN:VEVENT
UID:event-271@stadhaus.lu
DTSTAMP:1498062282
DTSTART:20161002T150000
LOCATION:38, avenue Charlotte, L-4530 Differdange
URL;VALUE=URI:http://www.stadhaus.lu/agenda/detail/?user_agenda_pi1[showUid]=271
SUMMARY:Thé dansant - Blue Night
END:VEVENT
END:VCALENDAR