BEGIN:VCALENDAR
VERSION:2.0
PRODID:-//hacksw/handcal//NONSGML v1.0//EN
CALSCALE:GREGORIAN
BEGIN:VEVENT
UID:event-270@stadhaus.lu
DTSTAMP:1498062285
DTSTART:20161005T200000
LOCATION:38, avenue Charlotte, L-4530 Differdange
URL;VALUE=URI:http://www.stadhaus.lu/agenda/detail/?user_agenda_pi1[showUid]=270
SUMMARY:Climax Blues Band Support act: The Heritage Blues Company 
END:VEVENT
END:VCALENDAR