BEGIN:VCALENDAR
VERSION:2.0
PRODID:-//hacksw/handcal//NONSGML v1.0//EN
CALSCALE:GREGORIAN
BEGIN:VEVENT
UID:event-269@stadhaus.lu
DTSTAMP:1498062370
DTSTART:20160930T200000
LOCATION:38, avenue Charlotte, L-4530 Differdange
URL;VALUE=URI:http://www.stadhaus.lu/agenda/detail/?user_agenda_pi1[showUid]=269
SUMMARY:Local Heroes Night 
END:VEVENT
END:VCALENDAR