BEGIN:VCALENDAR
VERSION:2.0
PRODID:-//hacksw/handcal//NONSGML v1.0//EN
CALSCALE:GREGORIAN
BEGIN:VEVENT
UID:event-266@stadhaus.lu
DTSTAMP:1498063236
DTSTART:20160318T200000
LOCATION:38, avenue Charlotte, L-4530 Differdange
URL;VALUE=URI:http://www.stadhaus.lu/agenda/detail/?user_agenda_pi1[showUid]=266
SUMMARY:Alain Frei - Alle Menschen sind anders... gleich 
END:VEVENT
END:VCALENDAR