BEGIN:VCALENDAR
VERSION:2.0
PRODID:-//hacksw/handcal//NONSGML v1.0//EN
CALSCALE:GREGORIAN
BEGIN:VEVENT
UID:event-252@stadhaus.lu
DTSTAMP:1498062766
DTSTART:20160616T140000
LOCATION:38, avenue Charlotte, L-4530 Differdange
URL;VALUE=URI:http://www.stadhaus.lu/agenda/detail/?user_agenda_pi1[showUid]=252
SUMMARY:Concours Partie publique Chant
END:VEVENT
END:VCALENDAR