BEGIN:VCALENDAR
VERSION:2.0
PRODID:-//hacksw/handcal//NONSGML v1.0//EN
CALSCALE:GREGORIAN
BEGIN:VEVENT
UID:event-251@stadhaus.lu
DTSTAMP:1498062754
DTSTART:20160614T170000
LOCATION:38, avenue Charlotte, L-4530 Differdange
URL;VALUE=URI:http://www.stadhaus.lu/agenda/detail/?user_agenda_pi1[showUid]=251
SUMMARY:Concours Partie publique Gros cuivres
END:VEVENT
END:VCALENDAR