BEGIN:VCALENDAR
VERSION:2.0
PRODID:-//hacksw/handcal//NONSGML v1.0//EN
CALSCALE:GREGORIAN
BEGIN:VEVENT
UID:event-249@stadhaus.lu
DTSTAMP:1498062741
DTSTART:20160609T140000
LOCATION:38, avenue Charlotte, L-4530 Differdange
URL;VALUE=URI:http://www.stadhaus.lu/agenda/detail/?user_agenda_pi1[showUid]=249
SUMMARY:Concours Partie publique Piano >1er cycle
END:VEVENT
END:VCALENDAR