BEGIN:VCALENDAR
VERSION:2.0
PRODID:-//hacksw/handcal//NONSGML v1.0//EN
CALSCALE:GREGORIAN
BEGIN:VEVENT
UID:event-236@stadhaus.lu
DTSTAMP:1498062728
DTSTART:20160604T150000
LOCATION:38, avenue Charlotte, L-4530 Differdange
URL;VALUE=URI:http://www.stadhaus.lu/agenda/detail/?user_agenda_pi1[showUid]=236
SUMMARY:Bib fir Kids (3-6 ans)
END:VEVENT
END:VCALENDAR