BEGIN:VCALENDAR
VERSION:2.0
PRODID:-//hacksw/handcal//NONSGML v1.0//EN
CALSCALE:GREGORIAN
BEGIN:VEVENT
UID:event-234@stadhaus.lu
DTSTAMP:1498063069
DTSTART:20160407
DTEND:20160501
LOCATION:38, avenue Charlotte, L-4530 Differdange
URL;VALUE=URI:http://www.stadhaus.lu/agenda/detail/?user_agenda_pi1[showUid]=234
SUMMARY:Gast Heuschling
END:VEVENT
END:VCALENDAR