BEGIN:VCALENDAR
VERSION:2.0
PRODID:-//hacksw/handcal//NONSGML v1.0//EN
CALSCALE:GREGORIAN
BEGIN:VEVENT
UID:event-223@stadhaus.lu
DTSTAMP:1498063083
DTSTART:20160427T200000
LOCATION:38, avenue Charlotte, L-4530 Differdange
URL;VALUE=URI:http://www.stadhaus.lu/agenda/detail/?user_agenda_pi1[showUid]=223
SUMMARY:The Luxembourg Jazz Session Big Band Opus 78
END:VEVENT
END:VCALENDAR