BEGIN:VCALENDAR
VERSION:2.0
PRODID:-//hacksw/handcal//NONSGML v1.0//EN
CALSCALE:GREGORIAN
BEGIN:VEVENT
UID:event-222@stadhaus.lu
DTSTAMP:1498063086
DTSTART:20160428T190000
LOCATION:38, avenue Charlotte, L-4530 Differdange
URL;VALUE=URI:http://www.stadhaus.lu/agenda/detail/?user_agenda_pi1[showUid]=222
SUMMARY:Mos Stellarium
END:VEVENT
END:VCALENDAR