BEGIN:VCALENDAR
VERSION:2.0
PRODID:-//hacksw/handcal//NONSGML v1.0//EN
CALSCALE:GREGORIAN
BEGIN:VEVENT
UID:event-204@stadhaus.lu
DTSTAMP:1498063368
DTSTART:20160214T170000
LOCATION:38, avenue Charlotte, L-4530 Differdange
URL;VALUE=URI:http://www.stadhaus.lu/agenda/detail/?user_agenda_pi1[showUid]=204
SUMMARY:Stéphane Rousseau Brise La Glace
END:VEVENT
END:VCALENDAR