BEGIN:VCALENDAR
VERSION:2.0
PRODID:-//hacksw/handcal//NONSGML v1.0//EN
CALSCALE:GREGORIAN
BEGIN:VEVENT
UID:event-181@stadhaus.lu
DTSTAMP:1498063671
DTSTART:20151107T150000
LOCATION:38, avenue Charlotte, L-4530 Differdange
URL;VALUE=URI:http://www.stadhaus.lu/agenda/detail/?user_agenda_pi1[showUid]=181
SUMMARY:Bib fir Kids
END:VEVENT
END:VCALENDAR